BEGIN:VCALENDAR
VERSION:2.0
PRODID:-//wp-events-plugin.com//7.2.3.1//EN
TZID:Europe/Berlin
X-WR-TIMEZONE:Europe/Berlin
BEGIN:VEVENT
UID:357@matussek-smart.info
DTSTART;TZID=Europe/Berlin:20260417T163000
DTEND;TZID=Europe/Berlin:20260417T180000
DTSTAMP:20260419T181343Z
URL:https://matussek-smart.info/events/urban-sketching-single-und-kleingru
 ppe-2026-04-17/
SUMMARY:Urban Sketching - Single und Kleingruppe
DESCRIPTION:Gleich\, ob es als Klassiker die Burgen\, der Schloßpark\, die
  Altstadt\, oder ganz andere Orte abseits der allgemeinen Erwartung sind.-
  Einsteiger und Fortgeschrittene finden Sujets\, aus Architektur\, Objektd
 arstellung\, und offener Landschaft. Das Thema liegt vor uns und frei wäh
 lbar.\nSchulen Sie das Auge\, und erfassen Sie die räumlichen Zusammenhä
 nge. Ein bis drei unterschiedliche Ansichten können an einem Nachmittag g
 ezeichnet werden. – Je nach Detailtreue als gültige Skizze\, oder zur s
 päteren Ausarbeitung. Vermittelt werden Darstellungstechniken und Konstru
 ktionshilfen.\nIm Focus steht vorrangig die Formwiedergabe\, nicht die Far
 blegung.\n\nZu Beginn des Workshop wird abgestimmt wo gezeichnet wird.\nMi
 tzubringen sind die bevorzugten Zeichenwerkzeuge: Bleistift\, Fineliner\, 
 Lineal\, Radierer\, …Zeichenblock/Klemmblock.\nEine Sitzunterlage\, oder
  Klappstuhl (falls Bänke vorort schon besetzt sind).\n\nWenn nicht anders
  vereinbart\, treffen wir uns am Vorplatz der Weinheim-Galerie\, Eingang T
 iefgarage.\nFür Rückfragen rufen Sie mich an\, unter 0157 78369000\, ode
 r schreiben eine E-Mail an kurse@matussek-smart.info\n
ATTACH;FMTTYPE=image/jpeg:https://matussek-smart.info/wp-content/uploads/2
 020/05/Urban-Sketching_Weinheim-Kopie-e1588410557791.png
CATEGORIES:Single und Kleingruppe,Zeichnen in Weinheim
LOCATION:Weinheim Galerie - Eingang Dürreplatz\, Dürrestraße 1\, Weinhei
 m\, BW\, 69469\, Bergstraße\, Deutschland
X-APPLE-STRUCTURED-LOCATION;VALUE=URI;X-ADDRESS=Dürrestraße 1\, Weinheim\
 , BW\, 69469\, Bergstraße\, Deutschland;X-APPLE-RADIUS=100;X-TITLE=Weinhe
 im Galerie - Eingang Dürreplatz:geo:0,0
END:VEVENT
BEGIN:VEVENT
UID:333@matussek-smart.info
DTSTART;TZID=Europe/Berlin:20260423T163000
DTEND;TZID=Europe/Berlin:20260423T180000
DTSTAMP:20260418T080408Z
URL:https://matussek-smart.info/events/perspektivisch-zeichnen-single-und-
 kleingruppe-2-2026-04-23/
SUMMARY:Perspektivisch zeichnen - Single- und Kleingruppe
DESCRIPTION:Perspektivisch zeichnen - Die Grundlagen\nIn diesem Kurs lernen
  Sie Techniken zur perspektivischen Darstellung kennen. Neben der Luft-\, 
 Frosch-\, Zentral- und Vogelperspektive schulen Sie Ihr Verständnis der r
 äumlichen Wahrnehmung und setzen Objekte gezielt in Szene. Schritt für S
 chritt erweitern Sie Ihr zeichnerisches Repertoire – Neben der formalen 
 Konstruktion befassen wir uns auch mit Schattierungen und plastischen Dars
 tellungstechniken\, die Tiefe und Spannung ins Bild bringen.\nWöchentlich
 e Kurstermine finden donnerstags statt.\nEbenso können Wunschtermine vere
 inbart werden!\n\nMindestteilnehmerzahl: 1 Person\, Maximal: 4 Personen\n\
 nSiehe auch Zum Beitrag
ATTACH;FMTTYPE=image/jpeg:https://matussek-smart.info/wp-content/uploads/2
 018/02/Schulbau-e1772126957320.png
CATEGORIES:Single und Kleingruppe
LOCATION:Stadtbibliothek Weinheim\, Luisenstr. 5/1\, Weinheim\, 69469\, Deu
 tschland
X-APPLE-STRUCTURED-LOCATION;VALUE=URI;X-ADDRESS=Luisenstr. 5/1\, Weinheim\,
  69469\, Deutschland;X-APPLE-RADIUS=100;X-TITLE=Stadtbibliothek Weinheim:g
 eo:0,0
END:VEVENT
BEGIN:VEVENT
UID:358@matussek-smart.info
DTSTART;TZID=Europe/Berlin:20260424T163000
DTEND;TZID=Europe/Berlin:20260424T180000
DTSTAMP:20260419T181343Z
URL:https://matussek-smart.info/events/urban-sketching-single-und-kleingru
 ppe-2026-04-24/
SUMMARY:Urban Sketching - Single und Kleingruppe
DESCRIPTION:Gleich\, ob es als Klassiker die Burgen\, der Schloßpark\, die
  Altstadt\, oder ganz andere Orte abseits der allgemeinen Erwartung sind.-
  Einsteiger und Fortgeschrittene finden Sujets\, aus Architektur\, Objektd
 arstellung\, und offener Landschaft. Das Thema liegt vor uns und frei wäh
 lbar.\nSchulen Sie das Auge\, und erfassen Sie die räumlichen Zusammenhä
 nge. Ein bis drei unterschiedliche Ansichten können an einem Nachmittag g
 ezeichnet werden. – Je nach Detailtreue als gültige Skizze\, oder zur s
 päteren Ausarbeitung. Vermittelt werden Darstellungstechniken und Konstru
 ktionshilfen.\nIm Focus steht vorrangig die Formwiedergabe\, nicht die Far
 blegung.\n\nZu Beginn des Workshop wird abgestimmt wo gezeichnet wird.\nMi
 tzubringen sind die bevorzugten Zeichenwerkzeuge: Bleistift\, Fineliner\, 
 Lineal\, Radierer\, …Zeichenblock/Klemmblock.\nEine Sitzunterlage\, oder
  Klappstuhl (falls Bänke vorort schon besetzt sind).\n\nWenn nicht anders
  vereinbart\, treffen wir uns am Vorplatz der Weinheim-Galerie\, Eingang T
 iefgarage.\nFür Rückfragen rufen Sie mich an\, unter 0157 78369000\, ode
 r schreiben eine E-Mail an kurse@matussek-smart.info\n
ATTACH;FMTTYPE=image/jpeg:https://matussek-smart.info/wp-content/uploads/2
 020/05/Urban-Sketching_Weinheim-Kopie-e1588410557791.png
CATEGORIES:Single und Kleingruppe,Zeichnen in Weinheim
LOCATION:Weinheim Galerie - Eingang Dürreplatz\, Dürrestraße 1\, Weinhei
 m\, BW\, 69469\, Bergstraße\, Deutschland
X-APPLE-STRUCTURED-LOCATION;VALUE=URI;X-ADDRESS=Dürrestraße 1\, Weinheim\
 , BW\, 69469\, Bergstraße\, Deutschland;X-APPLE-RADIUS=100;X-TITLE=Weinhe
 im Galerie - Eingang Dürreplatz:geo:0,0
END:VEVENT
BEGIN:VEVENT
UID:241@matussek-smart.info
DTSTART;TZID=Europe/Berlin:20260429T180000
DTEND;TZID=Europe/Berlin:20260429T193000
DTSTAMP:20260417T182817Z
URL:https://matussek-smart.info/events/bilder-mit-ki-generieren-3/
SUMMARY:Eigene Bildwelten mit KI generieren
DESCRIPTION:Bilder mit KI generieren
ATTACH;FMTTYPE=image/jpeg:https://matussek-smart.info/wp-content/uploads/2
 024/03/35666bd1-66e5-4e90-a1aa-ab728f082a39-e1776450559785.jpeg
CATEGORIES:Kurse bei VHS-BB Weinheim
LOCATION:https://www.vhs-bb.de/programm/beruf-digitales/kw/bereich/kursdeta
 ils/kurs/261503-18/kursname/Bilder%20mit%20KI%20generieren/kategorie-id/12
 /#inhalt
END:VEVENT
BEGIN:VEVENT
UID:334@matussek-smart.info
DTSTART;TZID=Europe/Berlin:20260430T163000
DTEND;TZID=Europe/Berlin:20260430T180000
DTSTAMP:20260417T174543Z
URL:https://matussek-smart.info/events/perspektivisch-zeichnen-single-und-
 kleingruppe-2-2026-04-30/
SUMMARY:Perspektivisch zeichnen - Single- und Kleingruppe
DESCRIPTION:Perspektivisch zeichnen - Die Grundlagen\nIn diesem Kurs lernen
  Sie Techniken zur perspektivischen Darstellung kennen. Neben der Luft-\, 
 Frosch-\, Zentral- und Vogelperspektive schulen Sie Ihr Verständnis der r
 äumlichen Wahrnehmung und setzen Objekte gezielt in Szene. Schritt für S
 chritt erweitern Sie Ihr zeichnerisches Repertoire – Neben der formalen 
 Konstruktion befassen wir uns auch mit Schattierungen und plastischen Dars
 tellungstechniken\, die Tiefe und Spannung ins Bild bringen.\nWöchentlich
 e Kurstermine finden donnerstags statt.\nEbenso können Wunschtermine vere
 inbart werden!\n\nMindestteilnehmerzahl: 1 Person\, Maximal: 4 Personen\n\
 nSiehe auch Zum Beitrag
ATTACH;FMTTYPE=image/jpeg:https://matussek-smart.info/wp-content/uploads/2
 018/02/Schulbau-e1772126957320.png
LOCATION:Stadtbibliothek Weinheim\, Luisenstr. 5/1\, Weinheim\, 69469\, Deu
 tschland
X-APPLE-STRUCTURED-LOCATION;VALUE=URI;X-ADDRESS=Luisenstr. 5/1\, Weinheim\,
  69469\, Deutschland;X-APPLE-RADIUS=100;X-TITLE=Stadtbibliothek Weinheim:g
 eo:0,0
END:VEVENT
BEGIN:VEVENT
UID:359@matussek-smart.info
DTSTART;TZID=Europe/Berlin:20260501T163000
DTEND;TZID=Europe/Berlin:20260501T180000
DTSTAMP:20260419T181343Z
URL:https://matussek-smart.info/events/urban-sketching-single-und-kleingru
 ppe-2026-05-01/
SUMMARY:Urban Sketching - Single und Kleingruppe
DESCRIPTION:Gleich\, ob es als Klassiker die Burgen\, der Schloßpark\, die
  Altstadt\, oder ganz andere Orte abseits der allgemeinen Erwartung sind.-
  Einsteiger und Fortgeschrittene finden Sujets\, aus Architektur\, Objektd
 arstellung\, und offener Landschaft. Das Thema liegt vor uns und frei wäh
 lbar.\nSchulen Sie das Auge\, und erfassen Sie die räumlichen Zusammenhä
 nge. Ein bis drei unterschiedliche Ansichten können an einem Nachmittag g
 ezeichnet werden. – Je nach Detailtreue als gültige Skizze\, oder zur s
 päteren Ausarbeitung. Vermittelt werden Darstellungstechniken und Konstru
 ktionshilfen.\nIm Focus steht vorrangig die Formwiedergabe\, nicht die Far
 blegung.\n\nZu Beginn des Workshop wird abgestimmt wo gezeichnet wird.\nMi
 tzubringen sind die bevorzugten Zeichenwerkzeuge: Bleistift\, Fineliner\, 
 Lineal\, Radierer\, …Zeichenblock/Klemmblock.\nEine Sitzunterlage\, oder
  Klappstuhl (falls Bänke vorort schon besetzt sind).\n\nWenn nicht anders
  vereinbart\, treffen wir uns am Vorplatz der Weinheim-Galerie\, Eingang T
 iefgarage.\nFür Rückfragen rufen Sie mich an\, unter 0157 78369000\, ode
 r schreiben eine E-Mail an kurse@matussek-smart.info\n
ATTACH;FMTTYPE=image/jpeg:https://matussek-smart.info/wp-content/uploads/2
 020/05/Urban-Sketching_Weinheim-Kopie-e1588410557791.png
CATEGORIES:Single und Kleingruppe,Zeichnen in Weinheim
LOCATION:Weinheim Galerie - Eingang Dürreplatz\, Dürrestraße 1\, Weinhei
 m\, BW\, 69469\, Bergstraße\, Deutschland
X-APPLE-STRUCTURED-LOCATION;VALUE=URI;X-ADDRESS=Dürrestraße 1\, Weinheim\
 , BW\, 69469\, Bergstraße\, Deutschland;X-APPLE-RADIUS=100;X-TITLE=Weinhe
 im Galerie - Eingang Dürreplatz:geo:0,0
END:VEVENT
BEGIN:VTIMEZONE
TZID:Europe/Berlin
X-LIC-LOCATION:Europe/Berlin
BEGIN:DAYLIGHT
DTSTART:20260329T030000
TZOFFSETFROM:+0100
TZOFFSETTO:+0200
TZNAME:CEST
END:DAYLIGHT
END:VTIMEZONE
END:VCALENDAR